BEGIN:VCALENDAR
VERSION:2.0
PRODID:DPCALENDAR
CALSCALE:GREGORIAN
X-WR-TIMEZONE:UTC
BEGIN:VEVENT
DTSTART;VALUE=DATE:20260522
DTEND;VALUE=DATE:20260526
UID:10b5416a61b55bc39a146f7ab1c94a34
SUMMARY:Mehrtagesfahrt Hamburg
DTSTAMP:20230115T082733Z
DESCRIPTION:
X-ALT-DESC;FMTTYPE=text/html:
X-ACCESS:1
X-MODIFIED:20260128T170321Z
X-HITS:153
X-URL:
X-COLOR:
END:VEVENT
END:VCALENDAR